BEGIN:VCALENDAR
VERSION:2.0
PRODID:-//Ketchikan Kapamilya - ECPv6.13.2.1//NONSGML v1.0//EN
CALSCALE:GREGORIAN
METHOD:PUBLISH
X-WR-CALNAME:Ketchikan Kapamilya
X-ORIGINAL-URL:https://ketchikankapamilya.org
X-WR-CALDESC:Events for Ketchikan Kapamilya
REFRESH-INTERVAL;VALUE=DURATION:PT1H
X-Robots-Tag:noindex
X-PUBLISHED-TTL:PT1H
BEGIN:VTIMEZONE
TZID:America/Juneau
BEGIN:DAYLIGHT
TZOFFSETFROM:-0900
TZOFFSETTO:-0800
TZNAME:AKDT
DTSTART:20250309T110000
END:DAYLIGHT
BEGIN:STANDARD
TZOFFSETFROM:-0800
TZOFFSETTO:-0900
TZNAME:AKST
DTSTART:20251102T100000
END:STANDARD
END:VTIMEZONE
BEGIN:VEVENT
DTSTART;TZID=America/Juneau:20251001T160000
DTEND;TZID=America/Juneau:20251001T170000
DTSTAMP:20260424T102452
CREATED:20250903T172806Z
LAST-MODIFIED:20250903T172806Z
UID:10000066-1759334400-1759338000@ketchikankapamilya.org
SUMMARY:"CLARA" MANA Feature Exhibit
DESCRIPTION:Dinner available for purchase
URL:https://ketchikankapamilya.org/event/clara-mana-feature-exhibit/
LOCATION:Diaz Cafe\, 335 Stedman St.\, Ketchikan\, AK\, 99901\, United States
ORGANIZER;CN="Ketchikan Wellness Coalition":MAILTO:czarina@ketchikanwellness.org
END:VEVENT
END:VCALENDAR