BEGIN:VCALENDAR
VERSION:2.0
PRODID:-//Ketchikan Kapamilya - ECPv6.13.2.1//NONSGML v1.0//EN
CALSCALE:GREGORIAN
METHOD:PUBLISH
X-ORIGINAL-URL:https://ketchikankapamilya.org
X-WR-CALDESC:Events for Ketchikan Kapamilya
REFRESH-INTERVAL;VALUE=DURATION:PT1H
X-Robots-Tag:noindex
X-PUBLISHED-TTL:PT1H
BEGIN:VTIMEZONE
TZID:America/Juneau
BEGIN:DAYLIGHT
TZOFFSETFROM:-0900
TZOFFSETTO:-0800
TZNAME:AKDT
DTSTART:20240310T110000
END:DAYLIGHT
BEGIN:STANDARD
TZOFFSETFROM:-0800
TZOFFSETTO:-0900
TZNAME:AKST
DTSTART:20241103T100000
END:STANDARD
END:VTIMEZONE
BEGIN:VEVENT
DTSTART;TZID=America/Juneau:20241004T170000
DTEND;TZID=America/Juneau:20241004T200000
DTSTAMP:20260424T192214
CREATED:20240808T203349Z
LAST-MODIFIED:20240809T063535Z
UID:10000029-1728061200-1728072000@ketchikankapamilya.org
SUMMARY:ARTober ART WALK
DESCRIPTION:Featuring pieces from Mana
URL:https://ketchikankapamilya.org/event/artober-art-walk/
LOCATION:Ketchikan Area Arts and Humanities Council\, 330 Main St\, Ketchikan\, AK\, 99901\, United States
ORGANIZER;CN="Ketchikan Wellness Coalition":MAILTO:czarina@ketchikanwellness.org
END:VEVENT
END:VCALENDAR