BEGIN:VCALENDAR
VERSION:2.0
PRODID:-//Ketchikan Kapamilya - ECPv6.13.2.1//NONSGML v1.0//EN
CALSCALE:GREGORIAN
METHOD:PUBLISH
X-WR-CALNAME:Ketchikan Kapamilya
X-ORIGINAL-URL:https://ketchikankapamilya.org
X-WR-CALDESC:Events for Ketchikan Kapamilya
REFRESH-INTERVAL;VALUE=DURATION:PT1H
X-Robots-Tag:noindex
X-PUBLISHED-TTL:PT1H
BEGIN:VTIMEZONE
TZID:America/Juneau
BEGIN:DAYLIGHT
TZOFFSETFROM:-0900
TZOFFSETTO:-0800
TZNAME:AKDT
DTSTART:20240310T110000
END:DAYLIGHT
BEGIN:STANDARD
TZOFFSETFROM:-0800
TZOFFSETTO:-0900
TZNAME:AKST
DTSTART:20241103T100000
END:STANDARD
BEGIN:DAYLIGHT
TZOFFSETFROM:-0900
TZOFFSETTO:-0800
TZNAME:AKDT
DTSTART:20250309T110000
END:DAYLIGHT
BEGIN:STANDARD
TZOFFSETFROM:-0800
TZOFFSETTO:-0900
TZNAME:AKST
DTSTART:20251102T100000
END:STANDARD
END:VTIMEZONE
BEGIN:VEVENT
DTSTART;TZID=America/Juneau:20250924T160000
DTEND;TZID=America/Juneau:20250924T180000
DTSTAMP:20260424T121624
CREATED:20250812T200312Z
LAST-MODIFIED:20250812T200312Z
UID:10000065-1758729600-1758736800@ketchikankapamilya.org
SUMMARY:Magsayawan Practice
DESCRIPTION:
URL:https://ketchikankapamilya.org/event/magsayawan-practice-2/2025-09-24/
LOCATION:Ketchikan High School\, 2610 4th Ave\, Ketchikan\, 99901\, United States
END:VEVENT
BEGIN:VEVENT
DTSTART;TZID=America/Juneau:20250917T160000
DTEND;TZID=America/Juneau:20250917T180000
DTSTAMP:20260424T121624
CREATED:20250812T200312Z
LAST-MODIFIED:20250812T200312Z
UID:10000064-1758124800-1758132000@ketchikankapamilya.org
SUMMARY:Magsayawan Practice
DESCRIPTION:
URL:https://ketchikankapamilya.org/event/magsayawan-practice-2/2025-09-17/
LOCATION:Ketchikan High School\, 2610 4th Ave\, Ketchikan\, 99901\, United States
END:VEVENT
BEGIN:VEVENT
DTSTART;TZID=America/Juneau:20250910T160000
DTEND;TZID=America/Juneau:20250910T180000
DTSTAMP:20260424T121624
CREATED:20250812T200312Z
LAST-MODIFIED:20250812T200312Z
UID:10000063-1757520000-1757527200@ketchikankapamilya.org
SUMMARY:Magsayawan Practice
DESCRIPTION:
URL:https://ketchikankapamilya.org/event/magsayawan-practice-2/2025-09-10/
LOCATION:Ketchikan High School\, 2610 4th Ave\, Ketchikan\, 99901\, United States
END:VEVENT
BEGIN:VEVENT
DTSTART;TZID=America/Juneau:20250903T160000
DTEND;TZID=America/Juneau:20250903T180000
DTSTAMP:20260424T121624
CREATED:20250812T200312Z
LAST-MODIFIED:20250812T200312Z
UID:10000062-1756915200-1756922400@ketchikankapamilya.org
SUMMARY:Magsayawan Practice
DESCRIPTION:
URL:https://ketchikankapamilya.org/event/magsayawan-practice-2/2025-09-03/
LOCATION:Ketchikan High School\, 2610 4th Ave\, Ketchikan\, 99901\, United States
END:VEVENT
BEGIN:VEVENT
DTSTART;TZID=America/Juneau:20250827T120000
DTEND;TZID=America/Juneau:20250827T140000
DTSTAMP:20260424T121624
CREATED:20250812T195805Z
LAST-MODIFIED:20250812T195805Z
UID:10000061-1756296000-1756303200@ketchikankapamilya.org
SUMMARY:Magsayawan Practice
DESCRIPTION:
URL:https://ketchikankapamilya.org/event/magsayawan-practice/2025-08-27/
LOCATION:Ketchikan High School\, 2610 4th Ave\, Ketchikan\, 99901\, United States
END:VEVENT
BEGIN:VEVENT
DTSTART;TZID=America/Juneau:20250820T120000
DTEND;TZID=America/Juneau:20250820T140000
DTSTAMP:20260424T121624
CREATED:20250812T195805Z
LAST-MODIFIED:20250812T195805Z
UID:10000060-1755691200-1755698400@ketchikankapamilya.org
SUMMARY:Magsayawan Practice
DESCRIPTION:
URL:https://ketchikankapamilya.org/event/magsayawan-practice/2025-08-20/
LOCATION:Ketchikan High School\, 2610 4th Ave\, Ketchikan\, 99901\, United States
END:VEVENT
BEGIN:VEVENT
DTSTART;TZID=America/Juneau:20250813T120000
DTEND;TZID=America/Juneau:20250813T140000
DTSTAMP:20260424T121624
CREATED:20250812T195805Z
LAST-MODIFIED:20250812T195805Z
UID:10000059-1755086400-1755093600@ketchikankapamilya.org
SUMMARY:Magsayawan Practice
DESCRIPTION:
URL:https://ketchikankapamilya.org/event/magsayawan-practice/2025-08-13/
LOCATION:Ketchikan High School\, 2610 4th Ave\, Ketchikan\, 99901\, United States
END:VEVENT
BEGIN:VEVENT
DTSTART;TZID=America/Juneau:20250630T120000
DTEND;TZID=America/Juneau:20250712T160000
DTSTAMP:20260424T121624
CREATED:20240604T175643Z
LAST-MODIFIED:20250617T212925Z
UID:10000017-1751284800-1752336000@ketchikankapamilya.org
SUMMARY:Kapamilya Culture Camp (KCC)
DESCRIPTION:A Summer Camp to learn Filipino Culture\, language\, and Arts. $25 per student or $50 MAX per family. Scholarships are also available for Kapamilya Members \nHere is the Registration Form: Fillable 2025 Culture Camp \nWhen you are done filling out this form please send it over to: czarina@ketchikanwellness.org \n 
URL:https://ketchikankapamilya.org/event/kapamilya-culture-camp-kcc-2/
LOCATION:Ketchikan High School\, 2610 4th Ave\, Ketchikan\, 99901\, United States
ORGANIZER;CN="Ketchikan Wellness Coalition":MAILTO:czarina@ketchikanwellness.org
END:VEVENT
BEGIN:VEVENT
DTSTART;TZID=America/Juneau:20250201T100000
DTEND;TZID=America/Juneau:20250201T140000
DTSTAMP:20260424T121624
CREATED:20250102T194745Z
LAST-MODIFIED:20250102T194745Z
UID:10000036-1738404000-1738418400@ketchikankapamilya.org
SUMMARY:First Aid & CPR Training
DESCRIPTION:The training will be held on Saturday\, February 1st at Ketchikan High School Library at 10:00am-2:00pm. Scan the QR Code to register or press think link:
URL:https://ketchikankapamilya.org/event/first-aid-cpr-training/
LOCATION:Ketchikan High School\, 2610 4th Ave\, Ketchikan\, 99901\, United States
ORGANIZER;CN="Ketchikan Wellness Coalition":MAILTO:czarina@ketchikanwellness.org
END:VEVENT
BEGIN:VEVENT
DTSTART;TZID=America/Juneau:20241125T121500
DTEND;TZID=America/Juneau:20241125T130000
DTSTAMP:20260424T121624
CREATED:20241118T211004Z
LAST-MODIFIED:20241118T211004Z
UID:10000034-1732536900-1732539600@ketchikankapamilya.org
SUMMARY:SCU Task Force Meeting
DESCRIPTION:Strengthening Cultural Unity Task Force Meeting on Monday 11/25 at the Ketchikan High School Room 130/Fast Track Room at 12:15pm-1:00pm. \nIf you have any questions email: czarina@ketchikanwellness.org  phone #: 907.821.4818
URL:https://ketchikankapamilya.org/event/scu-task-force-meeting/
LOCATION:Ketchikan High School\, 2610 4th Ave\, Ketchikan\, 99901\, United States
END:VEVENT
END:VCALENDAR