BEGIN:VCALENDAR
VERSION:2.0
PRODID:-//Ketchikan Kapamilya - ECPv6.13.2.1//NONSGML v1.0//EN
CALSCALE:GREGORIAN
METHOD:PUBLISH
X-WR-CALNAME:Ketchikan Kapamilya
X-ORIGINAL-URL:https://ketchikankapamilya.org
X-WR-CALDESC:Events for Ketchikan Kapamilya
REFRESH-INTERVAL;VALUE=DURATION:PT1H
X-Robots-Tag:noindex
X-PUBLISHED-TTL:PT1H
BEGIN:VTIMEZONE
TZID:America/Juneau
BEGIN:DAYLIGHT
TZOFFSETFROM:-0900
TZOFFSETTO:-0800
TZNAME:AKDT
DTSTART:20250309T110000
END:DAYLIGHT
BEGIN:STANDARD
TZOFFSETFROM:-0800
TZOFFSETTO:-0900
TZNAME:AKST
DTSTART:20251102T100000
END:STANDARD
END:VTIMEZONE
BEGIN:VEVENT
DTSTART;TZID=America/Juneau:20251027T180000
DTEND;TZID=America/Juneau:20251027T190000
DTSTAMP:20260424T102614
CREATED:20250903T174842Z
LAST-MODIFIED:20250903T174842Z
UID:10000070-1761588000-1761591600@ketchikankapamilya.org
SUMMARY:Lumpia Lessons
DESCRIPTION:Must Register
URL:https://ketchikankapamilya.org/event/lumpia-lessons/
LOCATION:Meng and Gings KItchen\, 521 Water St\, Ketchikan\, AK\, 99901\, United States
END:VEVENT
END:VCALENDAR