BEGIN:VCALENDAR
VERSION:2.0
PRODID:-//Ketchikan Kapamilya - ECPv6.13.2.1//NONSGML v1.0//EN
CALSCALE:GREGORIAN
METHOD:PUBLISH
X-WR-CALNAME:Ketchikan Kapamilya
X-ORIGINAL-URL:https://ketchikankapamilya.org
X-WR-CALDESC:Events for Ketchikan Kapamilya
REFRESH-INTERVAL;VALUE=DURATION:PT1H
X-Robots-Tag:noindex
X-PUBLISHED-TTL:PT1H
BEGIN:VTIMEZONE
TZID:America/Juneau
BEGIN:DAYLIGHT
TZOFFSETFROM:-0900
TZOFFSETTO:-0800
TZNAME:AKDT
DTSTART:20250309T110000
END:DAYLIGHT
BEGIN:STANDARD
TZOFFSETFROM:-0800
TZOFFSETTO:-0900
TZNAME:AKST
DTSTART:20251102T100000
END:STANDARD
END:VTIMEZONE
BEGIN:VEVENT
DTSTART;TZID=America/Juneau:20251011T113000
DTEND;TZID=America/Juneau:20251011T150000
DTSTAMP:20260424T121449
CREATED:20240531T170957Z
LAST-MODIFIED:20250407T201445Z
UID:10000005-1760182200-1760194800@ketchikankapamilya.org
SUMMARY:FIL-AM Festival
DESCRIPTION:Community Celebration with Food Vendors\, Resource Tables\, Youth Activities and more!
URL:https://ketchikankapamilya.org/event/fil-am-festival/
LOCATION:The Plaza\, 2417 Tongass Ave\, Ketchikan\, AK\, 99901\, United States
ORGANIZER;CN="Ketchikan Wellness Coalition":MAILTO:czarina@ketchikanwellness.org
END:VEVENT
END:VCALENDAR